BEGIN:VCALENDAR
VERSION:2.0
PRODID:-//Embodiment Lab//course-dates//EN
CALSCALE:GREGORIAN
BEGIN:VTIMEZONE
TZID:Europe/Stockholm
BEGIN:STANDARD
DTSTART:19701025T030000
RRULE:FREQ=YEARLY;BYMONTH=10;BYDAY=-1SU
TZOFFSETFROM:+0200
TZOFFSETTO:+0100
TZNAME:CET
END:STANDARD
BEGIN:DAYLIGHT
DTSTART:19700329T020000
RRULE:FREQ=YEARLY;BYMONTH=3;BYDAY=-1SU
TZOFFSETFROM:+0100
TZOFFSETTO:+0200
TZNAME:CEST
END:DAYLIGHT
END:VTIMEZONE
BEGIN:VEVENT
UID:f7537c26-abc5-4c7d-ac90-c2b1ba327097@embodimentlab.dk
DTSTAMP:20260423T175027Z
DTSTART;TZID=Europe/Stockholm:20260829T090000
DTEND;TZID=Europe/Stockholm:20260830T180000
SUMMARY:Embodiment for Psychologists and Psychotherapists\, Copenhagen Augu
 st 2026
LOCATION:Tagensvej 85C\, København N
DESCRIPTION:Embodied presence and interoceptive awareness — for yourself 
 and your therapeutic work.\n\nReserve your spot:\nhttps://www.embodimentl
 ab.dk/course/embodiment-psychologists-cph-aug-2026/\n\nTheory is delivere
 d via online lectures before the course. During the course days\, you dee
 pen your contact with the body through exercises and reflection.\n\nWe st
 art at 9 on Saturday and finish at 18 on Sunday. Address: Tagensvej 85C\,
  København N.
URL:https://www.embodimentlab.dk/course/embodiment-psychologists-cph-aug-20
 26/
BEGIN:VALARM
TRIGGER:-P7D
ACTION:DISPLAY
DESCRIPTION:Paminnelse: Embodiment for Psychologists and Psychotherapists\,
  Copenhagen August 2026 om 1 vecka
END:VALARM
BEGIN:VALARM
TRIGGER:-P1D
ACTION:DISPLAY
DESCRIPTION:Paminnelse: Embodiment for Psychologists and Psychotherapists\,
  Copenhagen August 2026 imorgon
END:VALARM
END:VEVENT
END:VCALENDAR
